BEGIN:VCALENDAR
VERSION:2.0
PRODID:-//Community Wellness Collaborative - ECPv6.15.20//NONSGML v1.0//EN
CALSCALE:GREGORIAN
METHOD:PUBLISH
X-WR-CALNAME:Community Wellness Collaborative
X-ORIGINAL-URL:https://communitywellness.org
X-WR-CALDESC:Events for Community Wellness Collaborative
REFRESH-INTERVAL;VALUE=DURATION:PT1H
X-Robots-Tag:noindex
X-PUBLISHED-TTL:PT1H
BEGIN:VTIMEZONE
TZID:America/Denver
BEGIN:DAYLIGHT
TZOFFSETFROM:-0700
TZOFFSETTO:-0600
TZNAME:MDT
DTSTART:20210314T090000
END:DAYLIGHT
BEGIN:STANDARD
TZOFFSETFROM:-0600
TZOFFSETTO:-0700
TZNAME:MST
DTSTART:20211107T080000
END:STANDARD
BEGIN:DAYLIGHT
TZOFFSETFROM:-0700
TZOFFSETTO:-0600
TZNAME:MDT
DTSTART:20220313T090000
END:DAYLIGHT
BEGIN:STANDARD
TZOFFSETFROM:-0600
TZOFFSETTO:-0700
TZNAME:MST
DTSTART:20221106T080000
END:STANDARD
BEGIN:DAYLIGHT
TZOFFSETFROM:-0700
TZOFFSETTO:-0600
TZNAME:MDT
DTSTART:20230312T090000
END:DAYLIGHT
BEGIN:STANDARD
TZOFFSETFROM:-0600
TZOFFSETTO:-0700
TZNAME:MST
DTSTART:20231105T080000
END:STANDARD
BEGIN:DAYLIGHT
TZOFFSETFROM:-0700
TZOFFSETTO:-0600
TZNAME:MDT
DTSTART:20240310T090000
END:DAYLIGHT
BEGIN:STANDARD
TZOFFSETFROM:-0600
TZOFFSETTO:-0700
TZNAME:MST
DTSTART:20241103T080000
END:STANDARD
BEGIN:DAYLIGHT
TZOFFSETFROM:-0700
TZOFFSETTO:-0600
TZNAME:MDT
DTSTART:20250309T090000
END:DAYLIGHT
BEGIN:STANDARD
TZOFFSETFROM:-0600
TZOFFSETTO:-0700
TZNAME:MST
DTSTART:20251102T080000
END:STANDARD
BEGIN:DAYLIGHT
TZOFFSETFROM:-0700
TZOFFSETTO:-0600
TZNAME:MDT
DTSTART:20260308T090000
END:DAYLIGHT
BEGIN:STANDARD
TZOFFSETFROM:-0600
TZOFFSETTO:-0700
TZNAME:MST
DTSTART:20261101T080000
END:STANDARD
END:VTIMEZONE
BEGIN:VEVENT
DTSTART;VALUE=DATE:20250920
DTEND;VALUE=DATE:20250922
DTSTAMP:20260421T144755
CREATED:20210315T224835Z
LAST-MODIFIED:20250914T220051Z
UID:5558-1758326400-1758499199@communitywellness.org
SUMMARY:Adams Avenue Street Fair
DESCRIPTION:Scheduled to return Sat. Sept 20th & Sun. Sept 21st\, 2025 for our 43rd Annual event celebration!\nSouthern California’s largest free two-day music festival is held each year in September in the community of Normal Heights and features 100 musical acts on seven stages. The event also features beer gardens and beer tastings\, giant carnival rides\, festival foods and 300 arts and crafts booths.
URL:https://communitywellness.org/event/adams-avenue-street-fair/
LOCATION:3239 Adams Ave\, 3366 Adams Ave\, San Diego\, CA\, 92116\, United States
CATEGORIES:Live Music Events
ATTACH;FMTTYPE=image/jpeg:https://communitywellness.org/wp-content/uploads/2021/03/253374238_98e1b0a9d7_b.jpg
END:VEVENT
BEGIN:VEVENT
DTSTART;TZID=America/Denver:20240601T193000
DTEND;TZID=America/Denver:20240601T210000
DTSTAMP:20260421T144755
CREATED:20240425T210634Z
LAST-MODIFIED:20240425T210706Z
UID:5982-1717270200-1717275600@communitywellness.org
SUMMARY:Comedy for a Cause Benefit for CWC at Mic Drop
DESCRIPTION:Our friends at Rand Comedy Productions are hosting a benefit for Community Wellness at the Mic Drop on Saturday\, June 1st! If you enjoy Stand-Up Comedy\, consider coming out for some laughs and support our cause. \nHeadliner: Dave Callans \nSpecial Guests: \nCindy Sheridan \nDiana Puig \nAlberto David Mercado \nJennifer Mason \nSapna Iyer \nHosted by Rand \nTickets are available here for only $25 and there is NO ITEM MINIMUM at Mic Drop. If you’re on this list or know someone who is\, you can take $5 off each ticket with the Promo Code “RAND” \n  \nWe hope to see you there and thank you for your support!
URL:https://communitywellness.org/event/comedy-for-a-cause-benefit-for-cwc-at-mic-drop/
LOCATION:Mic Drop Comedy\, 8878 Clairemont Mesa Blvd\, San Diego\, CA\, 92123\, United States
ATTACH;FMTTYPE=image/png:https://communitywellness.org/wp-content/uploads/2024/04/060124-C4C.png
END:VEVENT
BEGIN:VEVENT
DTSTART;TZID=America/Denver:20240427T130000
DTEND;TZID=America/Denver:20240427T170000
DTSTAMP:20260421T144755
CREATED:20240425T205803Z
LAST-MODIFIED:20240425T210732Z
UID:5980-1714222800-1714237200@communitywellness.org
SUMMARY:Adams Avenue Unplugged 2024
DESCRIPTION:April 27th\, 2024 \nAdams Avenue Unplugged is a free musical walkabout that takes place on SATURDAY\, APRIL 27th along a two-mile stretch of Adams Avenue\, from University Heights on the West through Normal Heights\, and into parts of Kensington to the East. This event highlights acoustic or unplugged music. \nCommunity Wellness Collaborative will be hosting and curating one of 20+ stages of music in the neighborhood. Our ALL AGES stage will feature live performances from:\n  \nFINNEGAN BLUE (Duo)\n(4 – 5pm)\n\nFinnegan Blue began in 2015 as an Irish rock band before morphing into jazz\, funk\, and afrobeat. “We formed to play at a bar on St. Patrick’s Day\,” says founder/songwriter/lead singer Anna Lee Fleming\, a 2014 SDSU graduate who was born and raised in North Park. “We branched out to include a broad spectrum of American folk\, bluegrass\, Americana\, New Orleans funk jazz…and traditional Irish.” The duo includes her brother Wili Fleming (from Surefire Soul Ensemble).\n\n\nSTACY ANTONEL\n(2:30 – 3:30pm)\n\nNashville artist Stacy Antonel makes clever\, country-leaning Americana that feels both vintage and hyper-modern. Her “country jazz” vocals conjure the great singers of the 20s-30s\, with the emotive power of country icon Patsy Cline. Rooted in classic country and laced with elements of jazz\, pop\, and R&B\, Antonel’s narrative songs often feature unconventional themes.\n\n\nTECOLOTE CANYON\n(1 – 2pm)\nMusic that inspires generations. Acoustic guitar based rock with great harmonies and a jam band twist\nTecolote Canyon was established in October 2021 at the 4th annual Beyond Bridge Festival with Mark Mendenhall on lead vocals & guitar\, and Tim Johnson on guitars & back up vocals. They have performed around 200 times since thier formation and cover some of best music ever written. They have become one of most enjoyable acoustic guitar based duos in San Diego\n\nAlso featuring giveaways from our friends at Guayaki Yerba Mate and HipPeas Snacks!\nVisit our Info Booth\, Tour our Wellness Center\, Meet our team!\nThanks to Queen Bee’s Arts & Cultural Center and Mid-City Community Music for your support!
URL:https://communitywellness.org/event/adams-avenue-unplugged-2024/
LOCATION:3239 Adams Ave\, 3366 Adams Ave\, San Diego\, CA\, 92116\, United States
CATEGORIES:Live Music Events
ATTACH;FMTTYPE=image/jpeg:https://communitywellness.org/wp-content/uploads/2024/03/AA-UNPLUGGED-2024-POSTER-scaled-1-scaled.jpg
END:VEVENT
BEGIN:VEVENT
DTSTART;TZID=America/Denver:20230603T120000
DTEND;TZID=America/Denver:20230603T230000
DTSTAMP:20260421T144755
CREATED:20220309T173126Z
LAST-MODIFIED:20230419T225300Z
UID:5718-1685793600-1685833200@communitywellness.org
SUMMARY:San Diego Beatles Fair
DESCRIPTION:The San Diego Beatles Fair  will return in 2023 with a celebration of all things related to the Fab Four. Saturday\, June 3rd\, will feature a full day of music\, talks\, shopping\, and singing\, including fun for all ages at Queen Bee’s Art & Cultural Center in North Park.\n​\nThis event is a partial benefit for Community Wellness Collaborative and our Founder will be curating and hosting the acoustic stage on the patio.  Stop by for some fun and music!
URL:https://communitywellness.org/event/san-diego-beatles-fair/
LOCATION:Queen’s Bees Arts & Cultural Center\, 3925 Ohio St\, San Diego\, CA\, 92104\, United States
CATEGORIES:Live Music Events
ATTACH;FMTTYPE=image/jpeg:https://communitywellness.org/wp-content/uploads/2022/03/Beatles-Fair.jpg
END:VEVENT
BEGIN:VEVENT
DTSTART;TZID=America/Denver:20230429T130000
DTEND;TZID=America/Denver:20230429T170000
DTSTAMP:20260421T144755
CREATED:20210219T194914Z
LAST-MODIFIED:20230410T212815Z
UID:453-1682773200-1682787600@communitywellness.org
SUMMARY:Adams Avenue Unplugged
DESCRIPTION:April 29th\, 2023  \nAdams Avenue Unplugged\, a free musical walkabout\, takes place in late April along a two-mile stretch of Adams Avenue\, from University Heights on the West through Normal Heights\, and into parts of Kensington to the East. This event highlights acoustic or unplugged music. \nCommunity Wellness Collaborative will be hosting and curating one of 20+ stages of music in the neighborhood. Our ALL AGES stage will feature live performances from:\n\nGYPSY SALLY\n(4 – 5pm)\n\nGypsy sally is a power trio from San Diego based in the sounds of classic 60s blues and soul. They write original music and also cover notable tracks from the distant past. Their sound evokes nostalgia\, dancing energy\, and heartfelt soul.\n\n\nHADLEY & KYLER\n(2:30 – 3:30pm)\n\nHadley and Kyler are both musicians from San Diego. They play a range of genres as an acoustic duo\, going from traditional mexican\, to old time folk\, to rocking blues. Hadley Rentz is the main voice in the duo\, and Kyler follows along accompanying on guitar.\n\n\nJASON GRAHAM\n(1 – 2pm)\nJason Graham is an eclectic musician based in the San Diego area. He gigs full time around town\, with an energetic live looping one man show. He uses looping technology to beatbox\, build musical layers\, and develop the sound of a full band.\n\nAlso featuring giveaways from our friends at Guayaki Yerba Mate\, Zico Coconut Water\, and HipPeas Snacks!\n\nVisit our Info Booth\, Tour our Wellness Center\, Meet our team!\n\n————————————————
URL:https://communitywellness.org/event/adams-avenue-unplugged/
LOCATION:3239 Adams Ave\, 3366 Adams Ave\, San Diego\, CA\, 92116\, United States
CATEGORIES:Live Music Events
ATTACH;FMTTYPE=image/jpeg:https://communitywellness.org/wp-content/uploads/2021/02/Insta-Graphic.jpg
END:VEVENT
BEGIN:VEVENT
DTSTART;TZID=America/Denver:20220604T030000
DTEND;TZID=America/Denver:20220604T120000
DTSTAMP:20260421T144755
CREATED:20210219T195030Z
LAST-MODIFIED:20210408T170135Z
UID:454-1654311600-1654344000@communitywellness.org
SUMMARY:Art Around Adams
DESCRIPTION:Cancelled for 2021 \nSince 2004\, Art Around Adams has been serving the San Diego community with thought-provoking art\, performances and musical acts you won’t see anywhere else.
URL:https://communitywellness.org/event/art-around-adams/
LOCATION:CA
CATEGORIES:Live Music Events
ATTACH;FMTTYPE=image/png:https://communitywellness.org/wp-content/uploads/2021/02/kid-band-7234778148_3a67727f74_o-full-color.png
END:VEVENT
END:VCALENDAR