BEGIN:VCALENDAR
VERSION:2.0
PRODID:-//Community Wellness Collaborative - ECPv6.15.20//NONSGML v1.0//EN
CALSCALE:GREGORIAN
METHOD:PUBLISH
X-ORIGINAL-URL:https://communitywellness.org
X-WR-CALDESC:Events for Community Wellness Collaborative
REFRESH-INTERVAL;VALUE=DURATION:PT1H
X-Robots-Tag:noindex
X-PUBLISHED-TTL:PT1H
BEGIN:VTIMEZONE
TZID:America/Denver
BEGIN:DAYLIGHT
TZOFFSETFROM:-0700
TZOFFSETTO:-0600
TZNAME:MDT
DTSTART:20250309T090000
END:DAYLIGHT
BEGIN:STANDARD
TZOFFSETFROM:-0600
TZOFFSETTO:-0700
TZNAME:MST
DTSTART:20251102T080000
END:STANDARD
BEGIN:DAYLIGHT
TZOFFSETFROM:-0700
TZOFFSETTO:-0600
TZNAME:MDT
DTSTART:20260308T090000
END:DAYLIGHT
BEGIN:STANDARD
TZOFFSETFROM:-0600
TZOFFSETTO:-0700
TZNAME:MST
DTSTART:20261101T080000
END:STANDARD
BEGIN:DAYLIGHT
TZOFFSETFROM:-0700
TZOFFSETTO:-0600
TZNAME:MDT
DTSTART:20270314T090000
END:DAYLIGHT
BEGIN:STANDARD
TZOFFSETFROM:-0600
TZOFFSETTO:-0700
TZNAME:MST
DTSTART:20271107T080000
END:STANDARD
END:VTIMEZONE
BEGIN:VEVENT
DTSTART;TZID=America/Denver:20260425T130000
DTEND;TZID=America/Denver:20260425T190000
DTSTAMP:20260421T194350
CREATED:20260421T201023Z
LAST-MODIFIED:20260421T204600Z
UID:6981-1777122000-1777143600@communitywellness.org
SUMMARY:CWC Farewell Celebration for Unplugged
DESCRIPTION:After 18 years on the avenue\, we’re closing our doors\, but welcome you all to one final celebration of our staff\, patients\, and community during Adams Avenue Unplugged!\n\n  \nWe’re raising funds to keep our outreach programs alive and auctioning off and selling everything in our clinic. EVERYTHING MUST GO!  Bid here (more items uploading daily)\n\n  \nTax-deductible donations gratefully accepted here: https://communitywellness.org/donate/\n\n  \nJoin us for music and memories as we celebrate almost 20 years as a bastion for community health and wellness care.\n  \nLive performances from:\n\n  \nBJ Lawrence – 1p\n\n  \nHadley Rentz – 1:30p\n\n  \nAdam Gimbel & Friends – 2:30p\n\n  \nMark Mendenhall & Friends 3:15p\n\n  \nGregory Page – 4:30p\n\n  \nDouble Knot (Formerly known as Finnegan Blue) – 5:30p\n\n  \n+ Special Guests and presentations throughout the day\n\n  \nOurs is only one of more than a dozen free music stages around the avenue.\nCheck out the rest of the event with details here from the Adams Ave Business Association
URL:https://communitywellness.org/event/community-farewell-celebration-for-unplugged/
LOCATION:3239 Adams Ave\, 3366 Adams Ave\, San Diego\, CA\, 92116\, United States
CATEGORIES:Live Music Events
ATTACH;FMTTYPE=image/jpeg:https://communitywellness.org/wp-content/uploads/2026/04/Storefront-Pic.jpg
END:VEVENT
END:VCALENDAR